BEGIN:VCALENDAR
VERSION:2.0
PRODID:-//eventon.com NONSGML v1.0//EN
BEGIN:VEVENT
UID:69ebeb5692ed5
DTSTAMP:20260424T221446
DTSTART:20230525T000000Z
DTEND:20230528T235900Z
LOCATION:Gene Leahy Mall 1001 Douglas Street
SUMMARY:Omaha\,  NE - Third Annual Patriotic Parade & Concert
DESCRIPTION: Visit the Rise Above traveling exhibit\,  and see the P-51C Mustang up close and in a fly-by overhead at Omaha's third-annual Patriotic Parade and Concert! The Patriotic Parade honors our Nation’s Military\,  First Responders and Gold Star Families\,  while inspiring love of country in Americans of all ages. 2023 will include[..]
END:VEVENT
END:VCALENDAR