BEGIN:VCALENDAR
VERSION:2.0
PRODID:-//eventon.com NONSGML v1.0//EN
BEGIN:VEVENT
UID:69e738dbe0411
DTSTAMP:20260421T084411
DTSTART:20260619T100000Z
DTEND:20260621T160000Z
LOCATION:Rickenbacker International Airport 2241 John Circle Drive
SUMMARY:OH - Columbus Air Show
DESCRIPTION: Come see the RISE ABOVE Traveling Exhibit and P-51C Mustang Exhibit and air show hours\,  see event website         https://columbusairshow.com/        Friday\,   June 19 & Saturday\,  June 20 (Twilight Show) Parking Lots\,  Gates\,  and Ground Displays Open: 2:00 PM Opening Ceremonies – Flying Begins: 5:00 PM Gates Close:[..]
END:VEVENT
END:VCALENDAR