BEGIN:VCALENDAR
VERSION:2.0
PRODID:-//eventon.com NONSGML v1.0//EN
BEGIN:VEVENT
UID:69eb6928da7e7
DTSTAMP:20260424T125920
DTSTART:20260522T100000Z
DTEND:20260525T160000Z
LOCATION:Stafford Regional Airport 95 Aviation Way
SUMMARY:VA - Stafford County Memorial Day 250 Commemoration
DESCRIPTION: Mustang (static with option of rides at pilot discretion) and Exhibit Friday (Commemoration Day) through Monday (Memorial Day) 10am - 4pm
END:VEVENT
END:VCALENDAR