BEGIN:VCALENDAR
VERSION:2.0
PRODID:-//eventon.com NONSGML v1.0//EN
BEGIN:VEVENT
UID:69e7357d81a23
DTSTAMP:20260421T082949
DTSTART:20260926T150000Z
DTEND:20260926T200000Z
LOCATION:Fayette County Airport 1075 Airport Road
SUMMARY:TN - Thunder Over Fayette Airshow
DESCRIPTION: See the Rise Above Traveling Exhibit's two documentary features on the Tuskegee Airmen and the WASP and the P-51C Tuskegee Airmen 'Red Tail' perform in a dusk and night air show http://www.fayettecountyairport.com 3pm - 8pm Fayette County Airport 1075 Airport Road Somerville\,  TN 38068
END:VEVENT
END:VCALENDAR